BEGIN:VCALENDAR
VERSION:2.0
PRODID:-//OLFENER SCHWIMMCLUB 2007 e.V. - ECPv6.15.20//NONSGML v1.0//EN
CALSCALE:GREGORIAN
METHOD:PUBLISH
X-WR-CALNAME:OLFENER SCHWIMMCLUB 2007 e.V.
X-ORIGINAL-URL:https://osc07.de
X-WR-CALDESC:Veranstaltungen für OLFENER SCHWIMMCLUB 2007 e.V.
REFRESH-INTERVAL;VALUE=DURATION:PT1H
X-Robots-Tag:noindex
X-PUBLISHED-TTL:PT1H
BEGIN:VTIMEZONE
TZID:Europe/Berlin
BEGIN:DAYLIGHT
TZOFFSETFROM:+0100
TZOFFSETTO:+0200
TZNAME:CEST
DTSTART:20250330T010000
END:DAYLIGHT
BEGIN:STANDARD
TZOFFSETFROM:+0200
TZOFFSETTO:+0100
TZNAME:CET
DTSTART:20251026T010000
END:STANDARD
BEGIN:DAYLIGHT
TZOFFSETFROM:+0100
TZOFFSETTO:+0200
TZNAME:CEST
DTSTART:20260329T010000
END:DAYLIGHT
BEGIN:STANDARD
TZOFFSETFROM:+0200
TZOFFSETTO:+0100
TZNAME:CET
DTSTART:20261025T010000
END:STANDARD
BEGIN:DAYLIGHT
TZOFFSETFROM:+0100
TZOFFSETTO:+0200
TZNAME:CEST
DTSTART:20270328T010000
END:DAYLIGHT
BEGIN:STANDARD
TZOFFSETFROM:+0200
TZOFFSETTO:+0100
TZNAME:CET
DTSTART:20271031T010000
END:STANDARD
END:VTIMEZONE
BEGIN:VEVENT
DTSTART;TZID=Europe/Berlin:20260426T000000
DTEND;TZID=Europe/Berlin:20260426T235959
DTSTAMP:20260421T133952
CREATED:20251227T181558Z
LAST-MODIFIED:20260208T194325Z
UID:7758-1777161600-1777247999@osc07.de
SUMMARY:Steinfurt: Jungküken- und Kükenschwimmfest
DESCRIPTION:
URL:https://osc07.de/event/steinfurt-jungkueken-und-kuekenschwimmfest/
LOCATION:Kombibad Borghorst\, Gräfin Bertha Str. 13\, Steinfurt\, 48565
CATEGORIES:Wettkampf
END:VEVENT
BEGIN:VEVENT
DTSTART;TZID=Europe/Berlin:20260430T000000
DTEND;TZID=Europe/Berlin:20260430T235959
DTSTAMP:20260421T133952
CREATED:20260218T181445Z
LAST-MODIFIED:20260218T181755Z
UID:8174-1777507200-1777593599@osc07.de
SUMMARY:Nordkirchen: Schloss- und Dorflauf
DESCRIPTION:2\,5 km Jedermannlauf – m/w\, ab U10 (Jahrgang 2017 und älter)
URL:https://osc07.de/event/nordkirchen-schloss-und-dorflauf/
LOCATION:Zentrum Nordkirchen\, Ludwig-Becker-Platz\, Nordkirchen\, 59394
CATEGORIES:Wettkampf
END:VEVENT
BEGIN:VEVENT
DTSTART;TZID=Europe/Berlin:20260510T000000
DTEND;TZID=Europe/Berlin:20260510T235959
DTSTAMP:20260421T133952
CREATED:20260413T053620Z
LAST-MODIFIED:20260413T053622Z
UID:8436-1778371200-1778457599@osc07.de
SUMMARY:Schwerte:
DESCRIPTION:
URL:https://osc07.de/event/schwerte/
CATEGORIES:Wettkampf
END:VEVENT
BEGIN:VEVENT
DTSTART;TZID=Europe/Berlin:20260606T000000
DTEND;TZID=Europe/Berlin:20260607T235959
DTSTAMP:20260421T133952
CREATED:20260413T053730Z
LAST-MODIFIED:20260413T053731Z
UID:8439-1780704000-1780876799@osc07.de
SUMMARY:Werne: Freibad
DESCRIPTION:
URL:https://osc07.de/event/werne-freibad/
CATEGORIES:Wettkampf
END:VEVENT
BEGIN:VEVENT
DTSTART;TZID=Europe/Berlin:20260620T000000
DTEND;TZID=Europe/Berlin:20260620T235959
DTSTAMP:20260421T133952
CREATED:20260413T053822Z
LAST-MODIFIED:20260413T053823Z
UID:8438-1781913600-1781999999@osc07.de
SUMMARY:Neuenrade: Freibad
DESCRIPTION:
URL:https://osc07.de/event/neuenrade-freibad/
CATEGORIES:Wettkampf
END:VEVENT
BEGIN:VEVENT
DTSTART;TZID=Europe/Berlin:20260704T000000
DTEND;TZID=Europe/Berlin:20260705T235959
DTSTAMP:20260421T133952
CREATED:20260413T053912Z
LAST-MODIFIED:20260413T053913Z
UID:8437-1783123200-1783295999@osc07.de
SUMMARY:Lünen: Freibad
DESCRIPTION:
URL:https://osc07.de/event/luenen-freibad/
CATEGORIES:Wettkampf
END:VEVENT
END:VCALENDAR